BEGIN:VCALENDAR
VERSION:2.0
PRODID:-//Abhinay Fine Arts - ECPv6.15.20//NONSGML v1.0//EN
CALSCALE:GREGORIAN
METHOD:PUBLISH
X-ORIGINAL-URL:https://abhinayfinearts.org
X-WR-CALDESC:Events for Abhinay Fine Arts
REFRESH-INTERVAL;VALUE=DURATION:PT1H
X-Robots-Tag:noindex
X-PUBLISHED-TTL:PT1H
BEGIN:VTIMEZONE
TZID:America/Los_Angeles
BEGIN:DAYLIGHT
TZOFFSETFROM:-0800
TZOFFSETTO:-0700
TZNAME:PDT
DTSTART:20250309T100000
END:DAYLIGHT
BEGIN:STANDARD
TZOFFSETFROM:-0700
TZOFFSETTO:-0800
TZNAME:PST
DTSTART:20251102T090000
END:STANDARD
BEGIN:DAYLIGHT
TZOFFSETFROM:-0800
TZOFFSETTO:-0700
TZNAME:PDT
DTSTART:20260308T100000
END:DAYLIGHT
BEGIN:STANDARD
TZOFFSETFROM:-0700
TZOFFSETTO:-0800
TZNAME:PST
DTSTART:20261101T090000
END:STANDARD
BEGIN:DAYLIGHT
TZOFFSETFROM:-0800
TZOFFSETTO:-0700
TZNAME:PDT
DTSTART:20270314T100000
END:DAYLIGHT
BEGIN:STANDARD
TZOFFSETFROM:-0700
TZOFFSETTO:-0800
TZNAME:PST
DTSTART:20271107T090000
END:STANDARD
END:VTIMEZONE
BEGIN:VEVENT
DTSTART;TZID=America/Los_Angeles:20260322T160000
DTEND;TZID=America/Los_Angeles:20260322T183000
DTSTAMP:20260423T185108
CREATED:20260304T194643Z
LAST-MODIFIED:20260304T194643Z
UID:1455-1774195200-1774204200@abhinayfinearts.org
SUMMARY:A Rhapsody of Violin and Shehnai
DESCRIPTION:Join us for this unique blend of Shehnai\, Violin\, Mridangam\, and Tabla by some of the foremost artists in their respective fields!
URL:https://abhinayfinearts.org/event/a-rhapsody-of-violin-and-shehnai/
LOCATION:Vedic Cultural Center\, 12501 NE Bel-Red Rd\, Bellevie\, WA\, 98005\, United States
ATTACH;FMTTYPE=image/jpeg:https://abhinayfinearts.org/wp-content/uploads/2026/03/WhatsApp-Image-2026-03-02-at-18.44.24.jpeg
ORGANIZER;CN="AFA":MAILTO:abhinayfinearts@gmail.com
END:VEVENT
END:VCALENDAR