BEGIN:VCALENDAR
VERSION:2.0
PRODID:-//Abhinay Fine Arts - ECPv6.15.20//NONSGML v1.0//EN
CALSCALE:GREGORIAN
METHOD:PUBLISH
X-ORIGINAL-URL:https://abhinayfinearts.org
X-WR-CALDESC:Events for Abhinay Fine Arts
REFRESH-INTERVAL;VALUE=DURATION:PT1H
X-Robots-Tag:noindex
X-PUBLISHED-TTL:PT1H
BEGIN:VTIMEZONE
TZID:America/Los_Angeles
BEGIN:DAYLIGHT
TZOFFSETFROM:-0800
TZOFFSETTO:-0700
TZNAME:PDT
DTSTART:20070311T100000
END:DAYLIGHT
BEGIN:STANDARD
TZOFFSETFROM:-0700
TZOFFSETTO:-0800
TZNAME:PST
DTSTART:20071104T090000
END:STANDARD
BEGIN:DAYLIGHT
TZOFFSETFROM:-0800
TZOFFSETTO:-0700
TZNAME:PDT
DTSTART:20080309T100000
END:DAYLIGHT
BEGIN:STANDARD
TZOFFSETFROM:-0700
TZOFFSETTO:-0800
TZNAME:PST
DTSTART:20081102T090000
END:STANDARD
BEGIN:DAYLIGHT
TZOFFSETFROM:-0800
TZOFFSETTO:-0700
TZNAME:PDT
DTSTART:20090308T100000
END:DAYLIGHT
BEGIN:STANDARD
TZOFFSETFROM:-0700
TZOFFSETTO:-0800
TZNAME:PST
DTSTART:20091101T090000
END:STANDARD
BEGIN:DAYLIGHT
TZOFFSETFROM:-0800
TZOFFSETTO:-0700
TZNAME:PDT
DTSTART:20100314T100000
END:DAYLIGHT
BEGIN:STANDARD
TZOFFSETFROM:-0700
TZOFFSETTO:-0800
TZNAME:PST
DTSTART:20101107T090000
END:STANDARD
BEGIN:DAYLIGHT
TZOFFSETFROM:-0800
TZOFFSETTO:-0700
TZNAME:PDT
DTSTART:20110313T100000
END:DAYLIGHT
BEGIN:STANDARD
TZOFFSETFROM:-0700
TZOFFSETTO:-0800
TZNAME:PST
DTSTART:20111106T090000
END:STANDARD
END:VTIMEZONE
BEGIN:VEVENT
DTSTART;TZID=America/Los_Angeles:20100501T080000
DTEND;TZID=America/Los_Angeles:20100501T170000
DTSTAMP:20260424T060536
CREATED:20251118T221406Z
LAST-MODIFIED:20251118T225923Z
UID:997-1272700800-1272733200@abhinayfinearts.org
SUMMARY:Sangeetham 2010 — Youth Engagement Showcase
DESCRIPTION:Sangeetham is Abhinay’s flagship youth initiative\, offering young performers an annual platform to develop their artistic skills and share their work with the community. The program brings together students from across the Seattle area for a day of music\, learning\, and performance\, supporting youth engagement in the classical arts.
URL:https://abhinayfinearts.org/event/sangeetham-2010-youth-engagement-showcase/
ATTACH;FMTTYPE=image/png:https://abhinayfinearts.org/wp-content/uploads/2025/11/6.png
END:VEVENT
BEGIN:VEVENT
DTSTART;TZID=America/Los_Angeles:20091120T080000
DTEND;TZID=America/Los_Angeles:20091120T170000
DTSTAMP:20260424T060536
CREATED:20251118T221041Z
LAST-MODIFIED:20251118T225815Z
UID:984-1258704000-1258736400@abhinayfinearts.org
SUMMARY:Sanjay Subrahmanyan
DESCRIPTION:Sanjay Subrahmanyan presents a full-length Carnatic vocal concert featuring a selection of classical compositions and improvisational work. Known for his dynamic concert style and depth of manodharma\, he brings a compelling program to audiences in the Puget Sound region.
URL:https://abhinayfinearts.org/event/sanjay-subrahmanyan/
ATTACH;FMTTYPE=image/jpeg:https://abhinayfinearts.org/wp-content/uploads/2025/11/images.jpeg
END:VEVENT
BEGIN:VEVENT
DTSTART;TZID=America/Los_Angeles:20091004T080000
DTEND;TZID=America/Los_Angeles:20091004T170000
DTSTAMP:20260424T060536
CREATED:20251118T221136Z
LAST-MODIFIED:20251118T225950Z
UID:994-1254643200-1254675600@abhinayfinearts.org
SUMMARY:Alarmel Valli — Bharatanatyam Performance
DESCRIPTION:Alarmel Valli\, one of Bharatanatyam’s leading exponents\, presents a solo performance showcasing the classical form’s expressive and rhythmic dimensions. The program highlights her refined technique\, musical sensitivity\, and distinctive interpretive style.
URL:https://abhinayfinearts.org/event/alarmel-valli-bharatanatyam-performance/
ATTACH;FMTTYPE=image/avif:https://abhinayfinearts.org/wp-content/uploads/2025/11/Alarmel-Valli-dancer_759.jpg.avif
END:VEVENT
BEGIN:VEVENT
DTSTART;TZID=America/Los_Angeles:20090801T080000
DTEND;TZID=America/Los_Angeles:20090801T170000
DTSTAMP:20260424T060536
CREATED:20251118T220503Z
LAST-MODIFIED:20251118T225929Z
UID:973-1249113600-1249146000@abhinayfinearts.org
SUMMARY:Indian Classical Music Festival
DESCRIPTION:A day-long festival featuring performances and presentations centered on Indian classical music. The event brings together artists and community members to celebrate the depth and variety of South Indian and North Indian musical traditions.
URL:https://abhinayfinearts.org/event/indian-classical-music-festival/
ATTACH;FMTTYPE=image/png:https://abhinayfinearts.org/wp-content/uploads/2025/11/1-1-e1762444486422.png
END:VEVENT
BEGIN:VEVENT
DTSTART;TZID=America/Los_Angeles:20090727T080000
DTEND;TZID=America/Los_Angeles:20090731T170000
DTSTAMP:20260424T060536
CREATED:20251118T220319Z
LAST-MODIFIED:20251118T220319Z
UID:964-1248681600-1249059600@abhinayfinearts.org
SUMMARY:Summer Camp for Kids
DESCRIPTION:A week-long arts immersion camp designed for children to explore Indian classical music\, rhythm\, and movement through age-appropriate lessons and creative activities. The program introduces foundational concepts while encouraging artistic curiosity in a supportive environment.
URL:https://abhinayfinearts.org/event/summer-camp-for-kids/
ATTACH;FMTTYPE=image/jpeg:https://abhinayfinearts.org/wp-content/uploads/2025/11/20180317_113903-scaled.jpg
END:VEVENT
BEGIN:VEVENT
DTSTART;TZID=America/Los_Angeles:20090518T080000
DTEND;TZID=America/Los_Angeles:20090519T170000
DTSTAMP:20260424T060536
CREATED:20251118T220637Z
LAST-MODIFIED:20251118T220637Z
UID:975-1242633600-1242752400@abhinayfinearts.org
SUMMARY:Carnatic Music Workshop with Sri Neyveli Santhanagopalan
DESCRIPTION:Sri Neyveli Santhanagopalan leads a two-day workshop focusing on core concepts of Carnatic music\, including raga structure\, improvisation\, and interpretive approaches. The sessions provide students and practitioners with direct guidance from a leading exponent of the art form.
URL:https://abhinayfinearts.org/event/carnatic-music-workshop-with-sri-neyveli-santhanagopalan/
ATTACH;FMTTYPE=image/jpeg:https://abhinayfinearts.org/wp-content/uploads/2025/11/Neyveli_Santhanagopalan_3.jpg
END:VEVENT
BEGIN:VEVENT
DTSTART;TZID=America/Los_Angeles:20090502T080000
DTEND;TZID=America/Los_Angeles:20090502T170000
DTSTAMP:20260424T060536
CREATED:20251118T220816Z
LAST-MODIFIED:20251118T220816Z
UID:979-1241251200-1241283600@abhinayfinearts.org
SUMMARY:Layatharanga — Indian Rhythm Ensemble
DESCRIPTION:Layatharanga presents a percussion-focused program highlighting rhythmic traditions and ensemble interplay within Indian classical music. The performance features intricate patterns\, dynamic exchanges\, and collaborative percussion work.
URL:https://abhinayfinearts.org/event/layatharanga-indian-rhythm-ensemble/
ATTACH;FMTTYPE=image/jpeg:https://abhinayfinearts.org/wp-content/uploads/2025/11/ab67616d0000b273196ba04414aaa961dac123a0.jpeg
END:VEVENT
BEGIN:VEVENT
DTSTART;TZID=America/Los_Angeles:20081017T160000
DTEND;TZID=America/Los_Angeles:20081017T190000
DTSTAMP:20260424T060536
CREATED:20251118T215837Z
LAST-MODIFIED:20251118T225943Z
UID:953-1224259200-1224270000@abhinayfinearts.org
SUMMARY:Ranjani & Gayatri — Carnatic Vocal Concert
DESCRIPTION:The acclaimed vocal duo Ranjani and Gayatri present a full-length Carnatic concert featuring a selection of compositions and improvisational works that reflect their dynamic artistry and cohesive musical expression. Known for their precision\, tonal clarity\, and distinctive concert style\, they bring a richly crafted program to audiences in the Puget Sound area.
URL:https://abhinayfinearts.org/event/ranjani-gayatri-carnatic-vocal-concert/
ATTACH;FMTTYPE=image/avif:https://abhinayfinearts.org/wp-content/uploads/2025/11/5c880a_b859680777374b60b5b546efe93bbe3cmv2_d_5760_3840_s_4_2.png.avif
END:VEVENT
BEGIN:VEVENT
DTSTART;TZID=America/Los_Angeles:20081016T080000
DTEND;TZID=America/Los_Angeles:20081016T170000
DTSTAMP:20260424T060536
CREATED:20251118T215929Z
LAST-MODIFIED:20251118T225937Z
UID:961-1224144000-1224176400@abhinayfinearts.org
SUMMARY:Interactive Session & Lecture-Demonstration with Ranjani & Gayatri
DESCRIPTION:Topic: Abhangs and Semi-Classical Traditions in Carnatic MusicScheduled: October 16\, 2008 \nRanjani and Gayatri lead an interactive session exploring the role of abhangs and semi-classical forms within the broader framework of Carnatic music. The lec-dem includes guided listening\, discussion of musical structure\, and demonstrations illustrating how these traditions intersect with classical performance practice.
URL:https://abhinayfinearts.org/event/interactive-session-lecture-demonstration-with-ranjani-gayatri/
ATTACH;FMTTYPE=image/jpeg:https://abhinayfinearts.org/wp-content/uploads/2025/11/Ranjani_Gayatri-scaled.jpg
END:VEVENT
BEGIN:VEVENT
DTSTART;TZID=America/Los_Angeles:20080531T100000
DTEND;TZID=America/Los_Angeles:20080531T160000
DTSTAMP:20260424T060536
CREATED:20251118T215328Z
LAST-MODIFIED:20251118T215354Z
UID:948-1212228000-1212249600@abhinayfinearts.org
SUMMARY:Festival of Classical Dances from India
DESCRIPTION:This festival brings together India’s major classical dance traditions on a single platform\, featuring Bharatanatyam\, Kathak\, Kuchipudi\, and Odissi. Dancers and teachers from across the Puget Sound region present choreographies rooted in their respective styles\, offering audiences a broad view of India’s cultural and artistic heritage. The festival highlights the depth and diversity of the local dance community and encourages shared appreciation across traditions. \nParticipating institutions include: \n\n\nKala Laya School (Bharatanatyam) \n\n\nUrvasi School (Odissi) \n\n\nArpan (Bharatanatyam) \n\n\nFrom Within (Bharatanatyam) \n\n\nMudra School (Bharatanatyam) \n\n\nManasarovar Kathak (Kathak) \n\n\nBala Kala Vidhaanam (Bharatanatyam) \n\n\nTanjavur School (Bharatanatyam) \n\n\nBhavana Kudikala (Kuchipudi) \n\n\nAbhinay School of Dance and Music (Bharatanatyam)
URL:https://abhinayfinearts.org/event/festival-of-classical-dances-from-india/
ATTACH;FMTTYPE=image/png:https://abhinayfinearts.org/wp-content/uploads/2025/11/11.png
END:VEVENT
BEGIN:VEVENT
DTSTART;TZID=America/Los_Angeles:20080419T170000
DTEND;TZID=America/Los_Angeles:20080419T200000
DTSTAMP:20260424T060536
CREATED:20251118T224332Z
LAST-MODIFIED:20251118T225834Z
UID:1046-1208624400-1208635200@abhinayfinearts.org
SUMMARY:Carnatic Vocal Concert by Ranjani & Gayatri
DESCRIPTION:A grand opening to AFA’s spring season by the impeccable duo.
URL:https://abhinayfinearts.org/event/carnatic-vocal-concert-by-ranjani-gayatri/
LOCATION:Kirkland Performing Arts Center
ATTACH;FMTTYPE=image/jpeg:https://abhinayfinearts.org/wp-content/uploads/2025/11/https-cdn.evbuc_.com-images-19071417-1908977956-1-original.jpg
END:VEVENT
BEGIN:VEVENT
DTSTART;TZID=America/Los_Angeles:20080411T170000
DTEND;TZID=America/Los_Angeles:20080411T190000
DTSTAMP:20260424T060536
CREATED:20251118T145522Z
LAST-MODIFIED:20251118T145522Z
UID:939-1207933200-1207940400@abhinayfinearts.org
SUMMARY:Sri Ashok Ramani — Vocal Carnatic Concert
DESCRIPTION:Sri Ashok Ramani\, grandson of renowned Tamil composer Papanasam Sivan\, presented a vocal Carnatic concert on April 11\, 2008. The performance featured a thoughtful selection of compositions\, giving audiences a rich and lyrical introduction to Abhinay Fine Arts’ early programming in Seattle.
URL:https://abhinayfinearts.org/event/sri-ashok-ramani-vocal-carnatic-concert/
ATTACH;FMTTYPE=image/jpeg:https://abhinayfinearts.org/wp-content/uploads/2025/11/05THEFTB_PAPANASAM_ASHOK_RAMANI_VOCAL.jpeg
ORGANIZER;CN="AFA":MAILTO:abhinayfinearts@gmail.com
END:VEVENT
BEGIN:VEVENT
DTSTART;TZID=America/Los_Angeles:20080308T180000
DTEND;TZID=America/Los_Angeles:20080308T200000
DTSTAMP:20260424T060536
CREATED:20251118T145859Z
LAST-MODIFIED:20251118T225600Z
UID:943-1204999200-1205006400@abhinayfinearts.org
SUMMARY:Sri Neyveli Santhanagopalan — Vocal Carnatic Concert
DESCRIPTION:Sri Neyveli Santhanagopalan inaugurated Abhinay Fine Arts’ first concert season on March 8\, 2008 with a vocal Carnatic performance that was widely appreciated. A respected musician and the guru of Dr. Sanjay Subramanian\, he presented signature pieces that highlighted both his intellectual depth and his expressive\, sensitive delivery.
URL:https://abhinayfinearts.org/event/sri-neyveli-santhanagopalan-vocal-carnatic-concert/
ATTACH;FMTTYPE=image/jpeg:https://abhinayfinearts.org/wp-content/uploads/2025/11/Neyveli_Santhanagopalan_3.jpg
ORGANIZER;CN="AFA":MAILTO:abhinayfinearts@gmail.com
END:VEVENT
END:VCALENDAR