BEGIN:VCALENDAR
VERSION:2.0
PRODID:-//Abhinay Fine Arts - ECPv6.15.20//NONSGML v1.0//EN
CALSCALE:GREGORIAN
METHOD:PUBLISH
X-WR-CALNAME:Abhinay Fine Arts
X-ORIGINAL-URL:https://abhinayfinearts.org
X-WR-CALDESC:Events for Abhinay Fine Arts
REFRESH-INTERVAL;VALUE=DURATION:PT1H
X-Robots-Tag:noindex
X-PUBLISHED-TTL:PT1H
BEGIN:VTIMEZONE
TZID:America/Los_Angeles
BEGIN:DAYLIGHT
TZOFFSETFROM:-0800
TZOFFSETTO:-0700
TZNAME:PDT
DTSTART:20070311T100000
END:DAYLIGHT
BEGIN:STANDARD
TZOFFSETFROM:-0700
TZOFFSETTO:-0800
TZNAME:PST
DTSTART:20071104T090000
END:STANDARD
BEGIN:DAYLIGHT
TZOFFSETFROM:-0800
TZOFFSETTO:-0700
TZNAME:PDT
DTSTART:20080309T100000
END:DAYLIGHT
BEGIN:STANDARD
TZOFFSETFROM:-0700
TZOFFSETTO:-0800
TZNAME:PST
DTSTART:20081102T090000
END:STANDARD
BEGIN:DAYLIGHT
TZOFFSETFROM:-0800
TZOFFSETTO:-0700
TZNAME:PDT
DTSTART:20090308T100000
END:DAYLIGHT
BEGIN:STANDARD
TZOFFSETFROM:-0700
TZOFFSETTO:-0800
TZNAME:PST
DTSTART:20091101T090000
END:STANDARD
BEGIN:DAYLIGHT
TZOFFSETFROM:-0800
TZOFFSETTO:-0700
TZNAME:PDT
DTSTART:20100314T100000
END:DAYLIGHT
BEGIN:STANDARD
TZOFFSETFROM:-0700
TZOFFSETTO:-0800
TZNAME:PST
DTSTART:20101107T090000
END:STANDARD
BEGIN:DAYLIGHT
TZOFFSETFROM:-0800
TZOFFSETTO:-0700
TZNAME:PDT
DTSTART:20110313T100000
END:DAYLIGHT
BEGIN:STANDARD
TZOFFSETFROM:-0700
TZOFFSETTO:-0800
TZNAME:PST
DTSTART:20111106T090000
END:STANDARD
BEGIN:DAYLIGHT
TZOFFSETFROM:-0800
TZOFFSETTO:-0700
TZNAME:PDT
DTSTART:20120311T100000
END:DAYLIGHT
BEGIN:STANDARD
TZOFFSETFROM:-0700
TZOFFSETTO:-0800
TZNAME:PST
DTSTART:20121104T090000
END:STANDARD
BEGIN:DAYLIGHT
TZOFFSETFROM:-0800
TZOFFSETTO:-0700
TZNAME:PDT
DTSTART:20130310T100000
END:DAYLIGHT
BEGIN:STANDARD
TZOFFSETFROM:-0700
TZOFFSETTO:-0800
TZNAME:PST
DTSTART:20131103T090000
END:STANDARD
BEGIN:DAYLIGHT
TZOFFSETFROM:-0800
TZOFFSETTO:-0700
TZNAME:PDT
DTSTART:20140309T100000
END:DAYLIGHT
BEGIN:STANDARD
TZOFFSETFROM:-0700
TZOFFSETTO:-0800
TZNAME:PST
DTSTART:20141102T090000
END:STANDARD
BEGIN:DAYLIGHT
TZOFFSETFROM:-0800
TZOFFSETTO:-0700
TZNAME:PDT
DTSTART:20150308T100000
END:DAYLIGHT
BEGIN:STANDARD
TZOFFSETFROM:-0700
TZOFFSETTO:-0800
TZNAME:PST
DTSTART:20151101T090000
END:STANDARD
BEGIN:DAYLIGHT
TZOFFSETFROM:-0800
TZOFFSETTO:-0700
TZNAME:PDT
DTSTART:20160313T100000
END:DAYLIGHT
BEGIN:STANDARD
TZOFFSETFROM:-0700
TZOFFSETTO:-0800
TZNAME:PST
DTSTART:20161106T090000
END:STANDARD
BEGIN:DAYLIGHT
TZOFFSETFROM:-0800
TZOFFSETTO:-0700
TZNAME:PDT
DTSTART:20170312T100000
END:DAYLIGHT
BEGIN:STANDARD
TZOFFSETFROM:-0700
TZOFFSETTO:-0800
TZNAME:PST
DTSTART:20171105T090000
END:STANDARD
BEGIN:DAYLIGHT
TZOFFSETFROM:-0800
TZOFFSETTO:-0700
TZNAME:PDT
DTSTART:20180311T100000
END:DAYLIGHT
BEGIN:STANDARD
TZOFFSETFROM:-0700
TZOFFSETTO:-0800
TZNAME:PST
DTSTART:20181104T090000
END:STANDARD
BEGIN:DAYLIGHT
TZOFFSETFROM:-0800
TZOFFSETTO:-0700
TZNAME:PDT
DTSTART:20190310T100000
END:DAYLIGHT
BEGIN:STANDARD
TZOFFSETFROM:-0700
TZOFFSETTO:-0800
TZNAME:PST
DTSTART:20191103T090000
END:STANDARD
END:VTIMEZONE
BEGIN:VEVENT
DTSTART;TZID=America/Los_Angeles:20181028T080000
DTEND;TZID=America/Los_Angeles:20181028T170000
DTSTAMP:20260424T085121
CREATED:20251118T230730Z
LAST-MODIFIED:20251118T230730Z
UID:1099-1540713600-1540746000@abhinayfinearts.org
SUMMARY:Carnatic Vocal Music Concert by Vidushi Sriranjani Santhanagopalan
DESCRIPTION:Abhinay is pleased to welcome Vidushi Sriranjani Santhanagopalan back to the Seattle area. This incredibly talented vocalist is the daughter and disciple of renowned musician and musicologist Sri Neyveli Santhanagopalan and has firmly established herself as a top ranking musician .
URL:https://abhinayfinearts.org/event/carnatic-vocal-music-concert-by-vidushi-sriranjani-santhanagopalan/
ATTACH;FMTTYPE=image/png:https://abhinayfinearts.org/wp-content/uploads/2025/11/Sri_Ranjani_Santhanagopalan.png
END:VEVENT
BEGIN:VEVENT
DTSTART;TZID=America/Los_Angeles:20180929T170000
DTEND;TZID=America/Los_Angeles:20180929T203000
DTSTAMP:20260424T085121
CREATED:20251118T225534Z
LAST-MODIFIED:20251118T230237Z
UID:1079-1538240400-1538253000@abhinayfinearts.org
SUMMARY:Vocal concert by Vidwan T. M. Krishna
DESCRIPTION:Abhinay is delighted to present a concert by the inimitable maestro T. M. Krishna as part of our 10th Anniversary Celebrations. Krishna has enthralled audiences the world over with his artistry\, rich voice and nuanced rendition of Indian classical music .
URL:https://abhinayfinearts.org/event/vocal-concert-by-vidwan-t-m-krishna/
ATTACH;FMTTYPE=image/jpeg:https://abhinayfinearts.org/wp-content/uploads/2025/11/file-image-32-1711016638.jpg
END:VEVENT
BEGIN:VEVENT
DTSTART;TZID=America/Los_Angeles:20180918T080000
DTEND;TZID=America/Los_Angeles:20180918T170000
DTSTAMP:20260424T085121
CREATED:20251118T230101Z
LAST-MODIFIED:20251118T230101Z
UID:1082-1537257600-1537290000@abhinayfinearts.org
SUMMARY:Vocal concert by Sangita Kalanidhi Sanjay Subrahmanyam
DESCRIPTION:Abhinay is honored to present a concert by Sangeeta Kalanidhi Sanjay Subrahmanayam as part of our 10th Anniversary Celebrations. Sanjay is known for his innvovative approach\, extensive repertoire and uncompromising adherence to classicism .
URL:https://abhinayfinearts.org/event/vocal-concert-by-sangita-kalanidhi-sanjay-subrahmanyam/
ATTACH;FMTTYPE=image/jpeg:https://abhinayfinearts.org/wp-content/uploads/2025/11/images.jpeg
END:VEVENT
BEGIN:VEVENT
DTSTART;TZID=America/Los_Angeles:20180513T080000
DTEND;TZID=America/Los_Angeles:20180513T170000
DTSTAMP:20260424T085121
CREATED:20251118T230142Z
LAST-MODIFIED:20251119T014625Z
UID:1084-1526198400-1526230800@abhinayfinearts.org
SUMMARY:Carnatic Vocal Music Concert: Ramakrishnan Murthy
DESCRIPTION:Abhinay is pleased to welcome Vidwan Ramakrishnan Murthy back to the Seattle area. He will be accompanied by Sri Manoj Siva on the Mridangam and Smt Charumathi Raghuraman on the Violin.
URL:https://abhinayfinearts.org/event/carnatic-vocal-music-concert-ramakrishnan-murthy/
ATTACH;FMTTYPE=image/jpeg:https://abhinayfinearts.org/wp-content/uploads/2025/11/Ramakrishnan_Murthy.jpg
END:VEVENT
BEGIN:VEVENT
DTSTART;TZID=America/Los_Angeles:20180408T080000
DTEND;TZID=America/Los_Angeles:20180408T170000
DTSTAMP:20260424T085121
CREATED:20251118T230214Z
LAST-MODIFIED:20251118T230214Z
UID:1086-1523174400-1523206800@abhinayfinearts.org
SUMMARY:Abhinay Fine Arts 10th Anniversary Inaugural Concert by Bombay Jayashri
DESCRIPTION:Abhinay Fine Arts is celebrating 10 years of contribution to the growth of Indian Classical Performing Arts in the Pacific Northwest . We begin the year with our signature event Sangeetham 2018 that will also feature a concert by Bombay Jayashri. \nSince we anticipate this to be a sold out show\, we urge our patrons to book their tickets well in advance. There will be NO on site sales. \nIn order to streamline seating\, a venue map has been created for attendees to view the seating options based on the type of ticket purchased. \nSeating will begin at 430 PM promptly to ensure an on time start for the concert. We thank you all for your cooperation .
URL:https://abhinayfinearts.org/event/abhinay-fine-arts-10th-anniversary-inaugural-concert-by-bombay-jayashri/
ATTACH;FMTTYPE=image/jpeg:https://abhinayfinearts.org/wp-content/uploads/2025/11/images-1.jpeg
END:VEVENT
BEGIN:VEVENT
DTSTART;TZID=America/Los_Angeles:20171118T150000
DTEND;TZID=America/Los_Angeles:20171118T173000
DTSTAMP:20260424T085121
CREATED:20251118T225004Z
LAST-MODIFIED:20251118T225639Z
UID:1070-1511017200-1511026200@abhinayfinearts.org
SUMMARY:Carnatic Vocal Concert by Ashwath Narayan
DESCRIPTION:Abhinay Fine Arts concludes the ” Parampara” series of concerts with a vocal concert by Sri Ashwath Narayan\, who represents the legendary KVN
URL:https://abhinayfinearts.org/event/carnatic-vocal-concert-by-ashwath-narayan/
LOCATION:SVETA LV Temple
ATTACH;FMTTYPE=image/jpeg:https://abhinayfinearts.org/wp-content/uploads/2025/11/Ashwath-Narayanan_1-1.jpg
END:VEVENT
BEGIN:VEVENT
DTSTART;TZID=America/Los_Angeles:20171027T190000
DTEND;TZID=America/Los_Angeles:20171027T213000
DTSTAMP:20260424T085121
CREATED:20251118T225242Z
LAST-MODIFIED:20251118T225630Z
UID:1075-1509130800-1509139800@abhinayfinearts.org
SUMMARY:Carnatic Violin Duet by Lalgudi GJR Krishnan & Vijayalakshmi accompanied by Trichy Sankaran & Tripunithura Radhakrishnan
DESCRIPTION:Abhinay Fine Arts is proud to present for the first time in the Seattle area\, the famous violin duo of GJR Krishnan and Vijayalakshmi- the tourchbearers of the legendary Lalgudi Jayaraman school of music. This is an event not to be missed. This concert is the penultimate concert of our “Paramparaa” concert series.
URL:https://abhinayfinearts.org/event/carnatic-violin-duet-by-lalgudi-gjr-krishnan-vijayalakshmi-accompanied-by-trichy-sankaran-tripunithura-radhakrishnan/
ATTACH;FMTTYPE=image/jpeg:https://abhinayfinearts.org/wp-content/uploads/2025/11/SRI_9651-scaled.jpg
END:VEVENT
BEGIN:VEVENT
DTSTART;TZID=America/Los_Angeles:20170611T160000
DTEND;TZID=America/Los_Angeles:20170611T190000
DTSTAMP:20260424T085121
CREATED:20251118T225323Z
LAST-MODIFIED:20251118T225624Z
UID:1077-1497196800-1497207600@abhinayfinearts.org
SUMMARY:Carnatic Music Concert by Padma Sugavanam
DESCRIPTION:The last concert of our Spring Season featuring the rising star Padma Sugavanam.
URL:https://abhinayfinearts.org/event/carnatic-music-concert-by-padma-sugavanam/
END:VEVENT
BEGIN:VEVENT
DTSTART;TZID=America/Los_Angeles:20160522T080000
DTEND;TZID=America/Los_Angeles:20160522T170000
DTSTAMP:20260424T085121
CREATED:20251118T224703Z
LAST-MODIFIED:20251118T225705Z
UID:1064-1463904000-1463936400@abhinayfinearts.org
SUMMARY:Jugalbandi by TM Krishna and Priyadarshini Govind
DESCRIPTION:The grand finale of Sangeetham 2016\, a sensational jugalbandi by 2 of the preeminent performers in dance & music
URL:https://abhinayfinearts.org/event/jugalbandi-by-tm-krishna-and-priyadarshini-govind/
ATTACH;FMTTYPE=image/jpeg:https://abhinayfinearts.org/wp-content/uploads/2025/11/p.jpg
END:VEVENT
BEGIN:VEVENT
DTSTART;TZID=America/Los_Angeles:20160424T170000
DTEND;TZID=America/Los_Angeles:20160424T200000
DTSTAMP:20260424T085121
CREATED:20251118T224854Z
LAST-MODIFIED:20251118T225824Z
UID:1067-1461517200-1461528000@abhinayfinearts.org
SUMMARY:Vocal concert by Sanjay Subrahmanyan
DESCRIPTION:Abhinay is honored to present a concert by Sangeeta Kalanidhi Sanjay Subrahmanayan known for his innvovative approach & extensive repertoire.
URL:https://abhinayfinearts.org/event/vocal-concert-by-sanjay-subrahmanyan/
LOCATION:Redmond High School
ATTACH;FMTTYPE=image/jpeg:https://abhinayfinearts.org/wp-content/uploads/2025/11/images.jpeg
END:VEVENT
BEGIN:VEVENT
DTSTART;TZID=America/Los_Angeles:20151114T080000
DTEND;TZID=America/Los_Angeles:20151114T170000
DTSTAMP:20260424T085121
CREATED:20251118T223527Z
LAST-MODIFIED:20251118T225723Z
UID:1040-1447488000-1447520400@abhinayfinearts.org
SUMMARY:Ramakrishnan Murthy — Carnatic Vocal Concert
DESCRIPTION:Ramakrishnan Murthy presents a Carnatic vocal concert accompanied by R. K. Shriramkumar on the violin and K. Arun Prakash on the mridangam. The performance features classical selections presented with clarity\, precision\, and strong manodharma.
URL:https://abhinayfinearts.org/event/ramakrishnan-murthy-carnatic-vocal-concert/
ATTACH;FMTTYPE=image/jpeg:https://abhinayfinearts.org/wp-content/uploads/2025/11/Ramakrishnan_Murthy.jpg
END:VEVENT
BEGIN:VEVENT
DTSTART;TZID=America/Los_Angeles:20151011T080000
DTEND;TZID=America/Los_Angeles:20151011T170000
DTSTAMP:20260424T085121
CREATED:20251118T223129Z
LAST-MODIFIED:20251118T225730Z
UID:1025-1444550400-1444582800@abhinayfinearts.org
SUMMARY:Shijith & Parvathy — Bharatanatyam Performance
DESCRIPTION:Shijith Namboodiri and Parvathy Menon present a Bharatanatyam recital featuring choreography rooted in classical structure\, expressive abhinaya\, and coordinated ensemble movement. Their performance highlights a dynamic partnership and a tradition-centered approach to the form.
URL:https://abhinayfinearts.org/event/shijith-parvathy-bharatanatyam-performance/
ATTACH;FMTTYPE=image/avif:https://abhinayfinearts.org/wp-content/uploads/2025/11/63683175.jpg.avif
END:VEVENT
BEGIN:VEVENT
DTSTART;TZID=America/Los_Angeles:20151003T080000
DTEND;TZID=America/Los_Angeles:20151003T170000
DTSTAMP:20260424T085121
CREATED:20251118T223251Z
LAST-MODIFIED:20251118T225738Z
UID:1031-1443859200-1443891600@abhinayfinearts.org
SUMMARY:Bombay Jayashri — Carnatic Vocal Concert
DESCRIPTION:Bombay Jayashri presents a Carnatic vocal concert accompanied by Embar Kannan on the violin\, Anantha R. Krishnan on the mridangam\, and B. Shree Sundarkumar on the kanjira. The performance features classical compositions delivered with her characteristic refinement and depth.
URL:https://abhinayfinearts.org/event/bombay-jayashri-carnatic-vocal-concert/
ATTACH;FMTTYPE=image/jpeg:https://abhinayfinearts.org/wp-content/uploads/2025/11/images-1.jpeg
END:VEVENT
BEGIN:VEVENT
DTSTART;TZID=America/Los_Angeles:20150920T080000
DTEND;TZID=America/Los_Angeles:20150920T170000
DTSTAMP:20260424T085121
CREATED:20251118T223416Z
LAST-MODIFIED:20251118T225745Z
UID:1035-1442736000-1442768400@abhinayfinearts.org
SUMMARY:Sriranjani Santhanagopalan
DESCRIPTION:Sriranjani Santhanagopalan presents a Carnatic vocal concert featuring classical compositions and improvisational elements that reflect her distinctive style and musical training.
URL:https://abhinayfinearts.org/event/sriranjani-santhanagopalan/
ATTACH;FMTTYPE=image/png:https://abhinayfinearts.org/wp-content/uploads/2025/11/Sri_Ranjani_Santhanagopalan.png
END:VEVENT
BEGIN:VEVENT
DTSTART;TZID=America/Los_Angeles:20111118T080000
DTEND;TZID=America/Los_Angeles:20111118T170000
DTSTAMP:20260424T085121
CREATED:20251118T222342Z
LAST-MODIFIED:20251118T222342Z
UID:1020-1321603200-1321635600@abhinayfinearts.org
SUMMARY:Priyadarsini Govind — Bharatanatyam Performance
DESCRIPTION:Priyadarsini Govind presents a full-length Bharatanatyam performance featuring classical repertoire rooted in precise technique\, expressive abhinaya\, and the traditional structure of the form. Her recital highlights both the rhythmic and interpretive dimensions that define her artistry.
URL:https://abhinayfinearts.org/event/priyadarsini-govind-bharatanatyam-performance/
END:VEVENT
BEGIN:VEVENT
DTSTART;TZID=America/Los_Angeles:20110423T080000
DTEND;TZID=America/Los_Angeles:20110423T170000
DTSTAMP:20260424T085121
CREATED:20251118T222159Z
LAST-MODIFIED:20251118T225842Z
UID:1015-1303545600-1303578000@abhinayfinearts.org
SUMMARY:Sandeep Narayan — Carnatic Vocal Concert
DESCRIPTION:Sandeep Narayan presents a full-length Carnatic vocal concert featuring classical compositions and improvisational elements characteristic of his performance style. The program highlights his strong vocal clarity\, depth of manodharma\, and thoughtful approach to concert structure.
URL:https://abhinayfinearts.org/event/sandeep-narayan-carnatic-vocal-concert/
ATTACH;FMTTYPE=image/jpeg:https://abhinayfinearts.org/wp-content/uploads/2025/11/Sandeep-Narayan.jpg
END:VEVENT
BEGIN:VEVENT
DTSTART;TZID=America/Los_Angeles:20101118T080000
DTEND;TZID=America/Los_Angeles:20101118T170000
DTSTAMP:20260424T085121
CREATED:20251118T222001Z
LAST-MODIFIED:20251118T225849Z
UID:1010-1290067200-1290099600@abhinayfinearts.org
SUMMARY:Rama Vaidyanathan — Bharatanatyam Solo Performance
DESCRIPTION:Renowned Bharatanatyam artist Rama Vaidyanathan presents a solo performance as part of the Natya2010 festival. The recital highlights her distinctive choreographic style\, interpretive clarity\, and refined command of classical vocabulary.
URL:https://abhinayfinearts.org/event/rama-vaidyanathan-bharatanatyam-solo-performance/
ATTACH;FMTTYPE=image/jpeg:https://abhinayfinearts.org/wp-content/uploads/2025/11/Rama-v1.jpg
END:VEVENT
BEGIN:VEVENT
DTSTART;TZID=America/Los_Angeles:20101118T080000
DTEND;TZID=America/Los_Angeles:20101118T170000
DTSTAMP:20260424T085121
CREATED:20251118T221910Z
LAST-MODIFIED:20251118T225857Z
UID:1006-1290067200-1290099600@abhinayfinearts.org
SUMMARY:Natya 2010 — Inaugural Natya Festival
DESCRIPTION:Natya 2010 marks the inaugural edition of Abhinay’s annual Bharatanatyam-focused festival\, bringing together dancers\, students\, and community members from across the Puget Sound region. The festival includes a Bharatanatyam dance competition\, an adjudication session led by Rama Vaidyanathan\, and a concluding solo performance by the artist.
URL:https://abhinayfinearts.org/event/natya-2010-inaugural-natya-festival/
END:VEVENT
BEGIN:VEVENT
DTSTART;TZID=America/Los_Angeles:20100501T080000
DTEND;TZID=America/Los_Angeles:20100501T170000
DTSTAMP:20260424T085121
CREATED:20251118T221634Z
LAST-MODIFIED:20251118T225957Z
UID:1000-1272700800-1272733200@abhinayfinearts.org
SUMMARY:Carnatic Vocal Concert by Sudha Raghunathan
DESCRIPTION:Following the Sangeetham youth program\, Sudha Raghunathan presents a Carnatic vocal concert featuring classical compositions rendered with her signature depth and refinement. The performance offers audiences an opportunity to experience one of the leading voices in the Carnatic tradition in a full-length concert setting.
URL:https://abhinayfinearts.org/event/carnatic-vocal-concert-by-sudha-raghunathan/
ATTACH;FMTTYPE=image/jpeg:https://abhinayfinearts.org/wp-content/uploads/2025/11/ab6761610000e5eba9cfb69b79cf9de2936c9e21.jpeg
END:VEVENT
BEGIN:VEVENT
DTSTART;TZID=America/Los_Angeles:20100501T080000
DTEND;TZID=America/Los_Angeles:20100501T170000
DTSTAMP:20260424T085121
CREATED:20251118T221406Z
LAST-MODIFIED:20251118T225923Z
UID:997-1272700800-1272733200@abhinayfinearts.org
SUMMARY:Sangeetham 2010 — Youth Engagement Showcase
DESCRIPTION:Sangeetham is Abhinay’s flagship youth initiative\, offering young performers an annual platform to develop their artistic skills and share their work with the community. The program brings together students from across the Seattle area for a day of music\, learning\, and performance\, supporting youth engagement in the classical arts.
URL:https://abhinayfinearts.org/event/sangeetham-2010-youth-engagement-showcase/
ATTACH;FMTTYPE=image/png:https://abhinayfinearts.org/wp-content/uploads/2025/11/6.png
END:VEVENT
BEGIN:VEVENT
DTSTART;TZID=America/Los_Angeles:20091120T080000
DTEND;TZID=America/Los_Angeles:20091120T170000
DTSTAMP:20260424T085121
CREATED:20251118T221041Z
LAST-MODIFIED:20251118T225815Z
UID:984-1258704000-1258736400@abhinayfinearts.org
SUMMARY:Sanjay Subrahmanyan
DESCRIPTION:Sanjay Subrahmanyan presents a full-length Carnatic vocal concert featuring a selection of classical compositions and improvisational work. Known for his dynamic concert style and depth of manodharma\, he brings a compelling program to audiences in the Puget Sound region.
URL:https://abhinayfinearts.org/event/sanjay-subrahmanyan/
ATTACH;FMTTYPE=image/jpeg:https://abhinayfinearts.org/wp-content/uploads/2025/11/images.jpeg
END:VEVENT
BEGIN:VEVENT
DTSTART;TZID=America/Los_Angeles:20091004T080000
DTEND;TZID=America/Los_Angeles:20091004T170000
DTSTAMP:20260424T085121
CREATED:20251118T221136Z
LAST-MODIFIED:20251118T225950Z
UID:994-1254643200-1254675600@abhinayfinearts.org
SUMMARY:Alarmel Valli — Bharatanatyam Performance
DESCRIPTION:Alarmel Valli\, one of Bharatanatyam’s leading exponents\, presents a solo performance showcasing the classical form’s expressive and rhythmic dimensions. The program highlights her refined technique\, musical sensitivity\, and distinctive interpretive style.
URL:https://abhinayfinearts.org/event/alarmel-valli-bharatanatyam-performance/
ATTACH;FMTTYPE=image/avif:https://abhinayfinearts.org/wp-content/uploads/2025/11/Alarmel-Valli-dancer_759.jpg.avif
END:VEVENT
BEGIN:VEVENT
DTSTART;TZID=America/Los_Angeles:20090801T080000
DTEND;TZID=America/Los_Angeles:20090801T170000
DTSTAMP:20260424T085121
CREATED:20251118T220503Z
LAST-MODIFIED:20251118T225929Z
UID:973-1249113600-1249146000@abhinayfinearts.org
SUMMARY:Indian Classical Music Festival
DESCRIPTION:A day-long festival featuring performances and presentations centered on Indian classical music. The event brings together artists and community members to celebrate the depth and variety of South Indian and North Indian musical traditions.
URL:https://abhinayfinearts.org/event/indian-classical-music-festival/
ATTACH;FMTTYPE=image/png:https://abhinayfinearts.org/wp-content/uploads/2025/11/1-1-e1762444486422.png
END:VEVENT
BEGIN:VEVENT
DTSTART;TZID=America/Los_Angeles:20090727T080000
DTEND;TZID=America/Los_Angeles:20090731T170000
DTSTAMP:20260424T085121
CREATED:20251118T220319Z
LAST-MODIFIED:20251118T220319Z
UID:964-1248681600-1249059600@abhinayfinearts.org
SUMMARY:Summer Camp for Kids
DESCRIPTION:A week-long arts immersion camp designed for children to explore Indian classical music\, rhythm\, and movement through age-appropriate lessons and creative activities. The program introduces foundational concepts while encouraging artistic curiosity in a supportive environment.
URL:https://abhinayfinearts.org/event/summer-camp-for-kids/
ATTACH;FMTTYPE=image/jpeg:https://abhinayfinearts.org/wp-content/uploads/2025/11/20180317_113903-scaled.jpg
END:VEVENT
BEGIN:VEVENT
DTSTART;TZID=America/Los_Angeles:20090518T080000
DTEND;TZID=America/Los_Angeles:20090519T170000
DTSTAMP:20260424T085121
CREATED:20251118T220637Z
LAST-MODIFIED:20251118T220637Z
UID:975-1242633600-1242752400@abhinayfinearts.org
SUMMARY:Carnatic Music Workshop with Sri Neyveli Santhanagopalan
DESCRIPTION:Sri Neyveli Santhanagopalan leads a two-day workshop focusing on core concepts of Carnatic music\, including raga structure\, improvisation\, and interpretive approaches. The sessions provide students and practitioners with direct guidance from a leading exponent of the art form.
URL:https://abhinayfinearts.org/event/carnatic-music-workshop-with-sri-neyveli-santhanagopalan/
ATTACH;FMTTYPE=image/jpeg:https://abhinayfinearts.org/wp-content/uploads/2025/11/Neyveli_Santhanagopalan_3.jpg
END:VEVENT
BEGIN:VEVENT
DTSTART;TZID=America/Los_Angeles:20090502T080000
DTEND;TZID=America/Los_Angeles:20090502T170000
DTSTAMP:20260424T085121
CREATED:20251118T220816Z
LAST-MODIFIED:20251118T220816Z
UID:979-1241251200-1241283600@abhinayfinearts.org
SUMMARY:Layatharanga — Indian Rhythm Ensemble
DESCRIPTION:Layatharanga presents a percussion-focused program highlighting rhythmic traditions and ensemble interplay within Indian classical music. The performance features intricate patterns\, dynamic exchanges\, and collaborative percussion work.
URL:https://abhinayfinearts.org/event/layatharanga-indian-rhythm-ensemble/
ATTACH;FMTTYPE=image/jpeg:https://abhinayfinearts.org/wp-content/uploads/2025/11/ab67616d0000b273196ba04414aaa961dac123a0.jpeg
END:VEVENT
BEGIN:VEVENT
DTSTART;TZID=America/Los_Angeles:20081017T160000
DTEND;TZID=America/Los_Angeles:20081017T190000
DTSTAMP:20260424T085121
CREATED:20251118T215837Z
LAST-MODIFIED:20251118T225943Z
UID:953-1224259200-1224270000@abhinayfinearts.org
SUMMARY:Ranjani & Gayatri — Carnatic Vocal Concert
DESCRIPTION:The acclaimed vocal duo Ranjani and Gayatri present a full-length Carnatic concert featuring a selection of compositions and improvisational works that reflect their dynamic artistry and cohesive musical expression. Known for their precision\, tonal clarity\, and distinctive concert style\, they bring a richly crafted program to audiences in the Puget Sound area.
URL:https://abhinayfinearts.org/event/ranjani-gayatri-carnatic-vocal-concert/
ATTACH;FMTTYPE=image/avif:https://abhinayfinearts.org/wp-content/uploads/2025/11/5c880a_b859680777374b60b5b546efe93bbe3cmv2_d_5760_3840_s_4_2.png.avif
END:VEVENT
BEGIN:VEVENT
DTSTART;TZID=America/Los_Angeles:20081016T080000
DTEND;TZID=America/Los_Angeles:20081016T170000
DTSTAMP:20260424T085121
CREATED:20251118T215929Z
LAST-MODIFIED:20251118T225937Z
UID:961-1224144000-1224176400@abhinayfinearts.org
SUMMARY:Interactive Session & Lecture-Demonstration with Ranjani & Gayatri
DESCRIPTION:Topic: Abhangs and Semi-Classical Traditions in Carnatic MusicScheduled: October 16\, 2008 \nRanjani and Gayatri lead an interactive session exploring the role of abhangs and semi-classical forms within the broader framework of Carnatic music. The lec-dem includes guided listening\, discussion of musical structure\, and demonstrations illustrating how these traditions intersect with classical performance practice.
URL:https://abhinayfinearts.org/event/interactive-session-lecture-demonstration-with-ranjani-gayatri/
ATTACH;FMTTYPE=image/jpeg:https://abhinayfinearts.org/wp-content/uploads/2025/11/Ranjani_Gayatri-scaled.jpg
END:VEVENT
BEGIN:VEVENT
DTSTART;TZID=America/Los_Angeles:20080531T100000
DTEND;TZID=America/Los_Angeles:20080531T160000
DTSTAMP:20260424T085121
CREATED:20251118T215328Z
LAST-MODIFIED:20251118T215354Z
UID:948-1212228000-1212249600@abhinayfinearts.org
SUMMARY:Festival of Classical Dances from India
DESCRIPTION:This festival brings together India’s major classical dance traditions on a single platform\, featuring Bharatanatyam\, Kathak\, Kuchipudi\, and Odissi. Dancers and teachers from across the Puget Sound region present choreographies rooted in their respective styles\, offering audiences a broad view of India’s cultural and artistic heritage. The festival highlights the depth and diversity of the local dance community and encourages shared appreciation across traditions. \nParticipating institutions include: \n\n\nKala Laya School (Bharatanatyam) \n\n\nUrvasi School (Odissi) \n\n\nArpan (Bharatanatyam) \n\n\nFrom Within (Bharatanatyam) \n\n\nMudra School (Bharatanatyam) \n\n\nManasarovar Kathak (Kathak) \n\n\nBala Kala Vidhaanam (Bharatanatyam) \n\n\nTanjavur School (Bharatanatyam) \n\n\nBhavana Kudikala (Kuchipudi) \n\n\nAbhinay School of Dance and Music (Bharatanatyam)
URL:https://abhinayfinearts.org/event/festival-of-classical-dances-from-india/
ATTACH;FMTTYPE=image/png:https://abhinayfinearts.org/wp-content/uploads/2025/11/11.png
END:VEVENT
BEGIN:VEVENT
DTSTART;TZID=America/Los_Angeles:20080419T170000
DTEND;TZID=America/Los_Angeles:20080419T200000
DTSTAMP:20260424T085121
CREATED:20251118T224332Z
LAST-MODIFIED:20251118T225834Z
UID:1046-1208624400-1208635200@abhinayfinearts.org
SUMMARY:Carnatic Vocal Concert by Ranjani & Gayatri
DESCRIPTION:A grand opening to AFA’s spring season by the impeccable duo.
URL:https://abhinayfinearts.org/event/carnatic-vocal-concert-by-ranjani-gayatri/
LOCATION:Kirkland Performing Arts Center
ATTACH;FMTTYPE=image/jpeg:https://abhinayfinearts.org/wp-content/uploads/2025/11/https-cdn.evbuc_.com-images-19071417-1908977956-1-original.jpg
END:VEVENT
END:VCALENDAR