BEGIN:VCALENDAR
VERSION:2.0
PRODID:-//Abhinay Fine Arts - ECPv6.15.20//NONSGML v1.0//EN
CALSCALE:GREGORIAN
METHOD:PUBLISH
X-ORIGINAL-URL:https://abhinayfinearts.org
X-WR-CALDESC:Events for Abhinay Fine Arts
REFRESH-INTERVAL;VALUE=DURATION:PT1H
X-Robots-Tag:noindex
X-PUBLISHED-TTL:PT1H
BEGIN:VTIMEZONE
TZID:America/Los_Angeles
BEGIN:DAYLIGHT
TZOFFSETFROM:-0800
TZOFFSETTO:-0700
TZNAME:PDT
DTSTART:20240310T100000
END:DAYLIGHT
BEGIN:STANDARD
TZOFFSETFROM:-0700
TZOFFSETTO:-0800
TZNAME:PST
DTSTART:20241103T090000
END:STANDARD
BEGIN:DAYLIGHT
TZOFFSETFROM:-0800
TZOFFSETTO:-0700
TZNAME:PDT
DTSTART:20250309T100000
END:DAYLIGHT
BEGIN:STANDARD
TZOFFSETFROM:-0700
TZOFFSETTO:-0800
TZNAME:PST
DTSTART:20251102T090000
END:STANDARD
BEGIN:DAYLIGHT
TZOFFSETFROM:-0800
TZOFFSETTO:-0700
TZNAME:PDT
DTSTART:20260308T100000
END:DAYLIGHT
BEGIN:STANDARD
TZOFFSETFROM:-0700
TZOFFSETTO:-0800
TZNAME:PST
DTSTART:20261101T090000
END:STANDARD
BEGIN:DAYLIGHT
TZOFFSETFROM:-0800
TZOFFSETTO:-0700
TZNAME:PDT
DTSTART:20270314T100000
END:DAYLIGHT
BEGIN:STANDARD
TZOFFSETFROM:-0700
TZOFFSETTO:-0800
TZNAME:PST
DTSTART:20271107T090000
END:STANDARD
END:VTIMEZONE
BEGIN:VEVENT
DTSTART;TZID=America/Los_Angeles:20250614T080000
DTEND;TZID=America/Los_Angeles:20250615T170000
DTSTAMP:20260425T063539
CREATED:20251119T050828Z
LAST-MODIFIED:20251119T050828Z
UID:1339-1749888000-1750006800@abhinayfinearts.org
SUMMARY:Vidushi Sriranjani Santhanagopalan Workshop 2025
DESCRIPTION:bhinay Fine Arts is thrilled to organize an in-person workshop by vocalist and Guru par excellence Vidushi Sriranjani Santhanagopalan in the Seattle area from June 14th to June 15th. \nTopic – Exploring Voice culture techniques and Kritis of Subbaraya Sastri and Annaswamy Sastri \nDates: June 14-15 \nTime: 10 am – 1pm PT \nLocation: Redmond\, WA \nEligibility criteria: Should have learned a minimum of 10 Varnams
URL:https://abhinayfinearts.org/event/vidushi-sriranjani-santhanagopalan-workshop-2025/
ATTACH;FMTTYPE=image/png:https://abhinayfinearts.org/wp-content/uploads/2025/11/Screenshot-2025-11-18-at-11.08.06-PM.png
END:VEVENT
BEGIN:VEVENT
DTSTART;TZID=America/Los_Angeles:20250621T160000
DTEND;TZID=America/Los_Angeles:20250621T170000
DTSTAMP:20260425T063539
CREATED:20251119T050154Z
LAST-MODIFIED:20251119T050154Z
UID:1324-1750521600-1750525200@abhinayfinearts.org
SUMMARY:Veena Concert by Vidwan Ramana Balachandhran 2025
DESCRIPTION:One of the most sought-after young artists in Indian classical music today\, the prodigious Vidwan Ramana Balachandhran is known for his breathtaking virtuosity and depth on the veena. We’re delighted to bring him back to Seattle\, accompanied  by the legendary Vidwan Patri Satish Kumar on the Mridangam on June 21st at 4 pm @ Sri Balaji Cultural Center\, Bellevue.
URL:https://abhinayfinearts.org/event/veena-concert-by-vidwan-ramana-balachandhran-2025/
LOCATION:Sri Balaji Temple Cultural Center\, Bellevue.
ATTACH;FMTTYPE=image/webp:https://abhinayfinearts.org/wp-content/uploads/2025/11/07775952-e74d-4235-b30e-cc935b7ca062.webp
END:VEVENT
BEGIN:VEVENT
DTSTART;TZID=America/Los_Angeles:20251004T170000
DTEND;TZID=America/Los_Angeles:20251004T190000
DTSTAMP:20260425T063539
CREATED:20251119T050402Z
LAST-MODIFIED:20251119T050402Z
UID:1330-1759597200-1759604400@abhinayfinearts.org
SUMMARY:Carnatic Vocal Concert by Vidwan Ashwath Narayanan
DESCRIPTION:Abhinay Fine Arts is delighted to kick off the Fall concert series with a concert by Vidwan Ashwath Narayanan on October 4th from 5 pm PST to 8pm PST @ Sai Baba Temple Cultural Hall\, Redmond. He will be accompanied by the legendary Vidwan Trichy Sankaran on the Mridangam\, Vidwan VVS Murari on the violin and Vidwan Anirudh Athreya on the Kanjira. \n\n\n\n 
URL:https://abhinayfinearts.org/event/carnatic-vocal-concert-by-vidwan-ashwath-narayanan-2/
LOCATION:Sai Baba Temple Cultural Hall\, Redmond
ATTACH;FMTTYPE=image/webp:https://abhinayfinearts.org/wp-content/uploads/2025/11/84574380-3e07-4d9d-9165-58d79728635f.webp
END:VEVENT
BEGIN:VEVENT
DTSTART;TZID=America/Los_Angeles:20251012T170000
DTEND;TZID=America/Los_Angeles:20251012T170000
DTSTAMP:20260425T063539
CREATED:20251119T050307Z
LAST-MODIFIED:20251119T050307Z
UID:1327-1760288400-1760288400@abhinayfinearts.org
SUMMARY:Carnatic Vocal Concert by Vidwan TVS Mahadevan 2025
DESCRIPTION:Abhinay Fine Arts is honored to host the incredible Carnatic vocalist Vid T.V.S. Mahadevan\, who continues the unique and celebrated style of his lineage\, including his\, grand uncle Sri Madurai Mani Iyer\, and his father\, Sri T.V. Sankaranarayanan. \nJoin us for this special performance on October 12th at 5 pm! Vid T.V.S. Mahadevan will be accompanied by the amazing talent of Vid Gokul Alankode on the violin and Vid Sai Raghavan on the mridangam.
URL:https://abhinayfinearts.org/event/carnatic-vocal-concert-by-vidwan-tvs-mahadevan-2025/
ATTACH;FMTTYPE=image/webp:https://abhinayfinearts.org/wp-content/uploads/2025/11/d616a4bd-47c1-4550-abfd-b5c641c8bcf3.webp
END:VEVENT
BEGIN:VEVENT
DTSTART;TZID=America/Los_Angeles:20251026T160000
DTEND;TZID=America/Los_Angeles:20251026T170000
DTSTAMP:20260425T063539
CREATED:20251119T050515Z
LAST-MODIFIED:20251119T050515Z
UID:1333-1761494400-1761498000@abhinayfinearts.org
SUMMARY:Carnatic Vocal Concert by Trichur Brothers 2025
DESCRIPTION:We are delighted to welcome back Trichur Brothers (Vidwan Srikrishna Mohan and Vidwan Ramkumar Mohan) for a vocal concert on October 26th\, 2025 at Sri Balaji Temple Cultural Hall\, Bellevue at 4 pm. They will be accompanied on the violin by Vidwan S.Janardhan and on the Mridangam by Vidwan Vijay Natesan. We will also feature a unique sing-along opportunity with the brothers (registrations now open).
URL:https://abhinayfinearts.org/event/carnatic-vocal-concert-by-trichur-brothers-2025/
LOCATION:Sri Balaji Temple Cultural Center\, Bellevue.
ATTACH;FMTTYPE=image/webp:https://abhinayfinearts.org/wp-content/uploads/2025/11/62357e92-ac00-495b-b6d0-ba3fd68e8eaf.webp
END:VEVENT
BEGIN:VEVENT
DTSTART;TZID=America/Los_Angeles:20260322T160000
DTEND;TZID=America/Los_Angeles:20260322T183000
DTSTAMP:20260425T063539
CREATED:20260304T194643Z
LAST-MODIFIED:20260304T194643Z
UID:1455-1774195200-1774204200@abhinayfinearts.org
SUMMARY:A Rhapsody of Violin and Shehnai
DESCRIPTION:Join us for this unique blend of Shehnai\, Violin\, Mridangam\, and Tabla by some of the foremost artists in their respective fields!
URL:https://abhinayfinearts.org/event/a-rhapsody-of-violin-and-shehnai/
LOCATION:Vedic Cultural Center\, 12501 NE Bel-Red Rd\, Bellevie\, WA\, 98005\, United States
ATTACH;FMTTYPE=image/jpeg:https://abhinayfinearts.org/wp-content/uploads/2026/03/WhatsApp-Image-2026-03-02-at-18.44.24.jpeg
ORGANIZER;CN="AFA":MAILTO:abhinayfinearts@gmail.com
END:VEVENT
BEGIN:VEVENT
DTSTART;TZID=America/Los_Angeles:20260516T090000
DTEND;TZID=America/Los_Angeles:20260516T200000
DTSTAMP:20260425T063539
CREATED:20260123T162705Z
LAST-MODIFIED:20260123T162705Z
UID:1447-1778922000-1778961600@abhinayfinearts.org
SUMMARY:Day 1 - Sangeetham 2026
DESCRIPTION:Our signature two-day Carnatic music festival is back!\n\nDesigned to celebrate musical excellence\, community participation\, and curated thematic programming\, the festival brings together local performers\, emerging artists\, and visiting professional musicians in a thoughtfully structured concert experience that balances learning\, exposure\, and high-quality performances. \nHighlights\nWe’re featuring several unique and curated presentations\, including: \n\nA Special Ragam Tanam Pallavi (RTP) presentation\nA Harikatha presentation\nFeatured concerts by emerging and established visiting artists from India\nA Grand Choir Presentation\nCurated performances by selected local artists and ensembles
URL:https://abhinayfinearts.org/event/day-1-sangeetham-2026/
LOCATION:Vedic Cultural Center\, 12501 NE Bel-Red Rd\, Bellevie\, WA\, 98005\, United States
ORGANIZER;CN="AFA":MAILTO:abhinayfinearts@gmail.com
END:VEVENT
BEGIN:VEVENT
DTSTART;TZID=America/Los_Angeles:20260516T090000
DTEND;TZID=America/Los_Angeles:20260517T200000
DTSTAMP:20260425T063539
CREATED:20260123T162442Z
LAST-MODIFIED:20260424T232548Z
UID:1445-1778922000-1779048000@abhinayfinearts.org
SUMMARY:Sangeetham 2026 - Overview
DESCRIPTION:Our signature two-day Carnatic music festival is back!\n\nDesigned to celebrate musical excellence\, community participation\, and curated thematic programming\, the festival brings together local performers\, emerging artists\, and visiting professional musicians in a thoughtfully structured concert experience that balances learning\, exposure\, and high-quality performances. \nHighlights\nWe’re featuring several unique and curated presentations\, including: \n\nA Special Ragam Tanam Pallavi (RTP) presentation\nA Harikatha presentation\nFeatured concerts by emerging and established visiting artists from India\nA Grand Choir Presentation\nCurated performances by selected local artists and ensembles
URL:https://abhinayfinearts.org/event/sangeetham-2026-overview/
ATTACH;FMTTYPE=image/jpeg:https://abhinayfinearts.org/wp-content/uploads/2026/01/WhatsApp-Image-2026-04-21-at-09.09.17.jpeg
END:VEVENT
BEGIN:VEVENT
DTSTART;TZID=America/Los_Angeles:20260517T100000
DTEND;TZID=America/Los_Angeles:20260517T200000
DTSTAMP:20260425T063539
CREATED:20260123T162832Z
LAST-MODIFIED:20260123T162832Z
UID:1450-1779012000-1779048000@abhinayfinearts.org
SUMMARY:Day 2 - Sangeetham 2026
DESCRIPTION:Our signature two-day Carnatic music festival is back!\n\nDesigned to celebrate musical excellence\, community participation\, and curated thematic programming\, the festival brings together local performers\, emerging artists\, and visiting professional musicians in a thoughtfully structured concert experience that balances learning\, exposure\, and high-quality performances. \nHighlights\nWe’re featuring several unique and curated presentations\, including: \n\nA Special Ragam Tanam Pallavi (RTP) presentation\nA Harikatha presentation\nFeatured concerts by emerging and established visiting artists from India\nA Grand Choir Presentation\nCurated performances by selected local artists and ensembles
URL:https://abhinayfinearts.org/event/day-2-sangeetham-2026/
LOCATION:Carlson Theater\, 3000 Landerholm Cir SE\, Bellevue\, WA\, 98007\, United States
END:VEVENT
END:VCALENDAR