BEGIN:VCALENDAR
VERSION:2.0
PRODID:-//Abhinay Fine Arts - ECPv6.15.20//NONSGML v1.0//EN
CALSCALE:GREGORIAN
METHOD:PUBLISH
X-WR-CALNAME:Abhinay Fine Arts
X-ORIGINAL-URL:https://abhinayfinearts.org
X-WR-CALDESC:Events for Abhinay Fine Arts
REFRESH-INTERVAL;VALUE=DURATION:PT1H
X-Robots-Tag:noindex
X-PUBLISHED-TTL:PT1H
BEGIN:VTIMEZONE
TZID:America/Los_Angeles
BEGIN:DAYLIGHT
TZOFFSETFROM:-0800
TZOFFSETTO:-0700
TZNAME:PDT
DTSTART:20180311T100000
END:DAYLIGHT
BEGIN:STANDARD
TZOFFSETFROM:-0700
TZOFFSETTO:-0800
TZNAME:PST
DTSTART:20181104T090000
END:STANDARD
BEGIN:DAYLIGHT
TZOFFSETFROM:-0800
TZOFFSETTO:-0700
TZNAME:PDT
DTSTART:20190310T100000
END:DAYLIGHT
BEGIN:STANDARD
TZOFFSETFROM:-0700
TZOFFSETTO:-0800
TZNAME:PST
DTSTART:20191103T090000
END:STANDARD
BEGIN:DAYLIGHT
TZOFFSETFROM:-0800
TZOFFSETTO:-0700
TZNAME:PDT
DTSTART:20200308T100000
END:DAYLIGHT
BEGIN:STANDARD
TZOFFSETFROM:-0700
TZOFFSETTO:-0800
TZNAME:PST
DTSTART:20201101T090000
END:STANDARD
BEGIN:DAYLIGHT
TZOFFSETFROM:-0800
TZOFFSETTO:-0700
TZNAME:PDT
DTSTART:20210314T100000
END:DAYLIGHT
BEGIN:STANDARD
TZOFFSETFROM:-0700
TZOFFSETTO:-0800
TZNAME:PST
DTSTART:20211107T090000
END:STANDARD
BEGIN:DAYLIGHT
TZOFFSETFROM:-0800
TZOFFSETTO:-0700
TZNAME:PDT
DTSTART:20220313T100000
END:DAYLIGHT
BEGIN:STANDARD
TZOFFSETFROM:-0700
TZOFFSETTO:-0800
TZNAME:PST
DTSTART:20221106T090000
END:STANDARD
BEGIN:DAYLIGHT
TZOFFSETFROM:-0800
TZOFFSETTO:-0700
TZNAME:PDT
DTSTART:20230312T100000
END:DAYLIGHT
BEGIN:STANDARD
TZOFFSETFROM:-0700
TZOFFSETTO:-0800
TZNAME:PST
DTSTART:20231105T090000
END:STANDARD
BEGIN:DAYLIGHT
TZOFFSETFROM:-0800
TZOFFSETTO:-0700
TZNAME:PDT
DTSTART:20240310T100000
END:DAYLIGHT
BEGIN:STANDARD
TZOFFSETFROM:-0700
TZOFFSETTO:-0800
TZNAME:PST
DTSTART:20241103T090000
END:STANDARD
BEGIN:DAYLIGHT
TZOFFSETFROM:-0800
TZOFFSETTO:-0700
TZNAME:PDT
DTSTART:20250309T100000
END:DAYLIGHT
BEGIN:STANDARD
TZOFFSETFROM:-0700
TZOFFSETTO:-0800
TZNAME:PST
DTSTART:20251102T090000
END:STANDARD
END:VTIMEZONE
BEGIN:VEVENT
DTSTART;TZID=America/Los_Angeles:20240908T160000
DTEND;TZID=America/Los_Angeles:20240908T180000
DTSTAMP:20260424T075031
CREATED:20251119T045120Z
LAST-MODIFIED:20251119T045138Z
UID:1302-1725811200-1725818400@abhinayfinearts.org
SUMMARY:Carnatic Vocal Concert by Trichur Brothers
DESCRIPTION:We are delighted to welcome back Trichur Brothers (Vidwan Srikrishna Mohan and Vidwan Ramkumar Mohan) for a vocal concert on September 8th\, 2024 at Mount Si High School Performing Arts Center\, Snoqualmie at 4 pm.
URL:https://abhinayfinearts.org/event/carnatic-vocal-concert-by-trichur-brothers-2/
ATTACH;FMTTYPE=image/png:https://abhinayfinearts.org/wp-content/uploads/2025/11/Screenshot-2025-11-18-at-10.45.30-PM.png
END:VEVENT
BEGIN:VEVENT
DTSTART;TZID=America/Los_Angeles:20240824T160000
DTEND;TZID=America/Los_Angeles:20240824T190000
DTSTAMP:20260424T075031
CREATED:20251119T044219Z
LAST-MODIFIED:20251119T044219Z
UID:1288-1724515200-1724526000@abhinayfinearts.org
SUMMARY:Carnatic Concert by Vidwan Delhi P Sunder Rajan
DESCRIPTION:Abhinay Fine Arts is delighted to kick off the Fall Concert series with a vocal concert by Vidwan Delhi P Sunder Rajan on August 25th at 4.00 pm at Sai Baba Temple Cultural Hall\, Redmond. He will be accompanied by Vidwan Neyveli Narayan and Chi. Maanas Sanjay on the Mridangam and Sri. Tejas Srinivasan on the violin.
URL:https://abhinayfinearts.org/event/carnatic-concert-by-vidwan-delhi-p-sunder-rajan/
LOCATION:Sai Baba Temple Cultural Hall\, Redmond
END:VEVENT
BEGIN:VEVENT
DTSTART;TZID=America/Los_Angeles:20240720T080000
DTEND;TZID=America/Los_Angeles:20240721T170000
DTSTAMP:20260424T075031
CREATED:20251119T050642Z
LAST-MODIFIED:20251119T050654Z
UID:1336-1721462400-1721581200@abhinayfinearts.org
SUMMARY:Vid. Sriranjani Santhanagopalan Workshop 2024
DESCRIPTION:Abhinay Fine Arts presents a workshop by Vid. Sriranjani Santhanagopalan\, where students can explore Manodharma through Varnams and voice culture techniques.
URL:https://abhinayfinearts.org/event/vid-sriranjani-santhanagopalan-workshop-2024/
ATTACH;FMTTYPE=image/png:https://abhinayfinearts.org/wp-content/uploads/2025/11/Screenshot-2025-11-18-at-10.45.02-PM-1.png
END:VEVENT
BEGIN:VEVENT
DTSTART;TZID=America/Los_Angeles:20240524T190000
DTEND;TZID=America/Los_Angeles:20240524T210000
DTSTAMP:20260424T075031
CREATED:20251119T044425Z
LAST-MODIFIED:20251119T044435Z
UID:1291-1716577200-1716584400@abhinayfinearts.org
SUMMARY:Carnatic Concert by Vidushi NJ Nandini
DESCRIPTION:Abhinay Fine Arts is delighted to present the talented artist Vidushi NJ Nandini on May 24th at 7.00 pm. She will be accompanied by an amazing team – Vidwan B Ananthakrishnan on the Violin\, Vidwan Thanjavur Murugaboopathi on the Mridangam and Vidwan N Guruprasad on the Ghatam. \n\n\n\nAbhinay Fine Arts is delighted to present the talented artist Vidushi NJ Nandini on May 24th at 7.00 pm. She will be accompanied by an amazing team – Vidwan B Ananthakrishnan on the Violin\, Vidwan Thanjavur Murugaboopathi on the Mridangam and Vidwan N Guruprasad on the Ghatam.
URL:https://abhinayfinearts.org/event/carnatic-concert-by-vidushi-nj-nandini/
ATTACH;FMTTYPE=image/png:https://abhinayfinearts.org/wp-content/uploads/2025/11/Screenshot-2025-11-18-at-10.43.40-PM.png
END:VEVENT
BEGIN:VEVENT
DTSTART;TZID=America/Los_Angeles:20240519T160000
DTEND;TZID=America/Los_Angeles:20240519T190000
DTSTAMP:20260424T075031
CREATED:20251119T043907Z
LAST-MODIFIED:20251119T043907Z
UID:1283-1716134400-1716145200@abhinayfinearts.org
SUMMARY:Carnatic Concert by Vidwan Bharat Sundar
DESCRIPTION:Abhinay Fine Arts is delighted to present the incredibly talented vocalist Bharat Sundar on May 19th at 4.00 pm. He will be accompanied by Sumesh Narayanan on the Mridangam and Sai Rakshith on the Violin.
URL:https://abhinayfinearts.org/event/carnatic-concert-by-vidwan-bharat-sundar/
ATTACH;FMTTYPE=image/png:https://abhinayfinearts.org/wp-content/uploads/2025/11/Screenshot-2025-11-18-at-10.36.32-PM.png
END:VEVENT
BEGIN:VEVENT
DTSTART;TZID=America/Los_Angeles:20240504T173000
DTEND;TZID=America/Los_Angeles:20240504T200000
DTSTAMP:20260424T075031
CREATED:20251119T044037Z
LAST-MODIFIED:20251119T044037Z
UID:1285-1714843800-1714852800@abhinayfinearts.org
SUMMARY:Carnatic Vocal Concert by Vidwan T M Krishna
DESCRIPTION:We are delighted to welcome back Vidwan T M Krishna for a vocal concert on May 5th\, 2024 at Kirkland Performance Center at 5.30 pm (Seating starts at 5.15 pm). He will be accompanied by Vidwan B HN Bhaskar on the violin and Vidwan B Sivaraman on the Mridangam. \n\n\n\nWe are delighted to welcome back Vidwan T M Krishna for a vocal concert on May 5th\, 2024 at Kirkland Performance Center at 5.30 pm (Seating starts at 5.15 pm). He will be accompanied by Vidwan B HN Bhaskar on the violin and Vidwan B Sivaraman on the Mridangam.
URL:https://abhinayfinearts.org/event/carnatic-vocal-concert-by-vidwan-t-m-krishna/
ATTACH;FMTTYPE=image/png:https://abhinayfinearts.org/wp-content/uploads/2025/11/Screenshot-2025-11-18-at-10.39.33-PM.png
END:VEVENT
BEGIN:VEVENT
DTSTART;TZID=America/Los_Angeles:20240417T190000
DTEND;TZID=America/Los_Angeles:20240417T210000
DTSTAMP:20260424T075031
CREATED:20251119T034413Z
LAST-MODIFIED:20251119T034413Z
UID:1276-1713380400-1713387600@abhinayfinearts.org
SUMMARY:Grand Music concert by Kaushiki Chakraborty and Ambi Subramaniam
DESCRIPTION:Abhinay Fine Arts is delighted to present a grand music concert featuring none other than Kaushiki Chakraborty and the violin virtuoso Ambi Subramaniam. This concert will likely sell out so tickets will be available only online.
URL:https://abhinayfinearts.org/event/grand-music-concert-by-kaushiki-chakraborty-and-ambi-subramaniam/
END:VEVENT
BEGIN:VEVENT
DTSTART;TZID=America/Los_Angeles:20240413T160000
DTEND;TZID=America/Los_Angeles:20240413T170000
DTSTAMP:20260424T075031
CREATED:20251119T033408Z
LAST-MODIFIED:20251119T033408Z
UID:1271-1713024000-1713027600@abhinayfinearts.org
SUMMARY:New Dimensions to the Margam
DESCRIPTION:We are delighted to present ” A New Dimension to the Maargam” – featuring the acclaimed Bharatanatyam artiste Nrithya Choodamani Rama Vaidyanathan \, with her troupe. \n \nWith opening performances by Seattle’s very own Megha Sanjay & Neha Venkatesh\, talented professional dancers that are loved & supported by the entire community.
URL:https://abhinayfinearts.org/event/new-dimensions-to-the-margam/
END:VEVENT
BEGIN:VEVENT
DTSTART;TZID=America/Los_Angeles:20231218T080000
DTEND;TZID=America/Los_Angeles:20231218T170000
DTSTAMP:20260424T075031
CREATED:20251119T032824Z
LAST-MODIFIED:20251119T032824Z
UID:1268-1702886400-1702918800@abhinayfinearts.org
SUMMARY:Carnatic Concert by K.S. Vishnudev
DESCRIPTION:We are delighted to present the incredibly talented vocalist KS Vishnudev accompanied by an amazing team – Patri Satishkumar(mridangam) \, VVS Murari(violin) and Krishnakumar( ghatam).
URL:https://abhinayfinearts.org/event/carnatic-concert-by-k-s-vishnudev/
ATTACH;FMTTYPE=image/avif:https://abhinayfinearts.org/wp-content/uploads/2025/11/Vishnudev-Image-5.jpg.avif
END:VEVENT
BEGIN:VEVENT
DTSTART;TZID=America/Los_Angeles:20231118T160000
DTEND;TZID=America/Los_Angeles:20231118T190000
DTSTAMP:20260424T075031
CREATED:20251118T232917Z
LAST-MODIFIED:20251118T232917Z
UID:1160-1700323200-1700334000@abhinayfinearts.org
SUMMARY:Carnatic Vocal Concert by Vidwan Sunil Gargyan
DESCRIPTION:Abhinay Fine Arts is delighted to present a carnatic vocal concert by Vidwan Sunil Gargyan on November 18th at 4 pm at Shirdi Sai Baba Temple\, Redmond . He will be accompanied on the violin by Vidwan Vijay Muralidharan and on the Mridangam by Vidwan Sai Raghavan.
URL:https://abhinayfinearts.org/event/carnatic-vocal-concert-by-vidwan-sunil-gargyan/
ATTACH;FMTTYPE=image/jpeg:https://abhinayfinearts.org/wp-content/uploads/2025/11/https-cdn.evbuc_.com-images-639553889-1908977956-1-original.20231110-202355.jpeg
END:VEVENT
BEGIN:VEVENT
DTSTART;TZID=America/Los_Angeles:20231105T160000
DTEND;TZID=America/Los_Angeles:20231105T190000
DTSTAMP:20260424T075031
CREATED:20251118T233014Z
LAST-MODIFIED:20251118T233014Z
UID:1163-1699200000-1699210800@abhinayfinearts.org
SUMMARY:Carnatic Veena Concert by Vidwan Ramana Balachandhran
DESCRIPTION:Abhinay Fine Arts is delighted to present a Carnatic Veena concert by the young\, prodigious musician\, Vidwan Ramana Balachandhran on November 5th at 4 pm at Shirdi Sai Baba Temple\, Redmond. He will be accompanied on the Mridangam by Vidwan Vignesh Venkataraman and on the Ghatam by Vidwan Sowmiya Narayan.
URL:https://abhinayfinearts.org/event/carnatic-veena-concert-by-vidwan-ramana-balachandhran/
ATTACH;FMTTYPE=image/jpeg:https://abhinayfinearts.org/wp-content/uploads/2025/11/https-cdn.evbuc_.com-images-634935499-1908977956-1-original.20231104-012341.jpeg
END:VEVENT
BEGIN:VEVENT
DTSTART;TZID=America/Los_Angeles:20231028T160000
DTEND;TZID=America/Los_Angeles:20231028T190000
DTSTAMP:20260424T075031
CREATED:20251118T233230Z
LAST-MODIFIED:20251118T233230Z
UID:1166-1698508800-1698519600@abhinayfinearts.org
SUMMARY:Carnatic Vocal Concert by Vidushi Sriranjani Santhanagopalan
DESCRIPTION:Abhinay Fine Arts is excited to welcome back the most versatile Vidushi Sriranjani Santhanagopalan to present a vocal concert on October 28th at 4 pm at Shirdi Sai Baba Temple\, Redmond . She will be accompanied on the violin by Vidwan Sayee Rakshith and on the Mridangam by Vidwan Praveen Sparsh.
URL:https://abhinayfinearts.org/event/carnatic-vocal-concert-by-vidushi-sriranjani-santhanagopalan/
ATTACH;FMTTYPE=image/jpeg:https://abhinayfinearts.org/wp-content/uploads/2025/11/https-cdn.evbuc_.com-images-622924999-1908977956-1-original.20231018-045452.jpeg
END:VEVENT
BEGIN:VEVENT
DTSTART;TZID=America/Los_Angeles:20231007T150000
DTEND;TZID=America/Los_Angeles:20231007T170000
DTSTAMP:20260424T075031
CREATED:20251118T232514Z
LAST-MODIFIED:20251118T232514Z
UID:1148-1696690800-1696698000@abhinayfinearts.org
SUMMARY:Carnatic Vocal Concert by Vidwan Vignesh Ishwar
DESCRIPTION:Abhinay Fine Arts is delighted to present a thematic vocal concert “The Music in Dance” by Vidwan Vignesh Ishwar on October 7th at 3 pm at Sveta LV Temple\, Redmond . He will be accompanied on the violin by Vidwan Kamalakiran Vinjamuri\, on the Mridangam by Vidwan Sumesh Narayanan and on the Kanjira by Vidwan Anirudh Athreya.
URL:https://abhinayfinearts.org/event/carnatic-vocal-concert-by-vidwan-vignesh-ishwar/
END:VEVENT
BEGIN:VEVENT
DTSTART;TZID=America/Los_Angeles:20230923T180000
DTEND;TZID=America/Los_Angeles:20230923T203000
DTSTAMP:20260424T075031
CREATED:20251118T232612Z
LAST-MODIFIED:20251118T232612Z
UID:1150-1695492000-1695501000@abhinayfinearts.org
SUMMARY:Vocal Concert by Vidushi Kruthi Bhat
DESCRIPTION:Abhinay Fine Arts is delighted to present a thematic vocal concert Lakshmi & Mahavishnuby Vidushi Kruthi Bhat on September 23rd at Eastside Baha’i Center\, bellevue at 6.00 pm. She will be accompanied by Vidwan Vishaal Saapuram on the Chitraveena\, Vidwan B Sivaraman on the Mridangam and Vidwan Chandrasekara Sharma on the Ghatam.
URL:https://abhinayfinearts.org/event/vocal-concert-by-vidushi-kruthi-bhat/
ATTACH;FMTTYPE=image/jpeg:https://abhinayfinearts.org/wp-content/uploads/2025/11/https-cdn.evbuc_.com-images-596609369-1908977956-1-original.20230913-022755.jpeg
END:VEVENT
BEGIN:VEVENT
DTSTART;TZID=America/Los_Angeles:20230910T160000
DTEND;TZID=America/Los_Angeles:20230910T190000
DTSTAMP:20260424T075031
CREATED:20251118T232719Z
LAST-MODIFIED:20251118T232719Z
UID:1153-1694361600-1694372400@abhinayfinearts.org
SUMMARY:Carnatic Vocal Concert by Trichur Brothers
DESCRIPTION:Abhinay Fine Arts is delighted to present a thematic Carnatic vocal concert\, “Dasavatharam” by the talented duo\, Trichur Brothers (Vidwan Srikrishna Mohan and Vidwan Raam Kumar Mohan) on September 10th\, 2023 at Carlson Theater\, Bellevue at 4.00 pm. They will be accompanied on the Mridangam by their father\, Vidwan Trichur R. Mohan and on the violin by Vidwan Visvesh Chandrasekar.
URL:https://abhinayfinearts.org/event/carnatic-vocal-concert-by-trichur-brothers/
LOCATION:Carlson Theater\, 3000 Landerholm Cir SE\, Bellevue\, WA\, 98007\, United States
ATTACH;FMTTYPE=image/jpeg:https://abhinayfinearts.org/wp-content/uploads/2025/11/https-cdn.evbuc_.com-images-588965419-1908977956-1-original.20230902-230701.jpeg
END:VEVENT
BEGIN:VEVENT
DTSTART;TZID=America/Los_Angeles:20230826T160000
DTEND;TZID=America/Los_Angeles:20230826T190000
DTSTAMP:20260424T075031
CREATED:20251118T232813Z
LAST-MODIFIED:20251118T232813Z
UID:1157-1693065600-1693076400@abhinayfinearts.org
SUMMARY:Carnatic Vocal Concert by Vidwan Ashwath Narayanan
DESCRIPTION:After a fantastic Spring concert season\, Abhinay Fine Arts is delighted to kick of the Fall Concert series with a Carnatic vocal concert by talented Vidwan Ashwath Narayanan on the 26th of August\, 2023 at Sammmish Valley Grange\, Woodinville at 4.00 pm. He will be accompanied by Vidwan L. Ramakrishnan on the violin and Vidwan Delhi Sairam on the mridangam.
URL:https://abhinayfinearts.org/event/carnatic-vocal-concert-by-vidwan-ashwath-narayanan/
ATTACH;FMTTYPE=image/jpeg:https://abhinayfinearts.org/wp-content/uploads/2025/11/https-cdn.evbuc_.com-images-561952539-1908977956-1-original.20230725-185737.jpeg
END:VEVENT
BEGIN:VEVENT
DTSTART;TZID=America/Los_Angeles:20230521T080000
DTEND;TZID=America/Los_Angeles:20230521T170000
DTSTAMP:20260424T075031
CREATED:20251118T232147Z
LAST-MODIFIED:20251118T232147Z
UID:1136-1684656000-1684688400@abhinayfinearts.org
SUMMARY:Carnatic Vocal Concert by Vidwan R. Suryaprakash
DESCRIPTION:Abhinay Fine Arts is honored to present Sri Madurai Mani Iyer and TVS memorial concert by the accomplished disciple of TVS\, Vidwan R. Suryaprakash on May 21st at 5 pm. He will be accompanied on the violin by Vidwan Kamalakiran Vinjamuri\, on the Mridangam by Vidwan K H Vineeth and on the Ghatam by Sowmiya Narayanan.
URL:https://abhinayfinearts.org/event/carnatic-vocal-concert-by-vidwan-r-suryaprakash/
ATTACH;FMTTYPE=image/jpeg:https://abhinayfinearts.org/wp-content/uploads/2025/11/images-3.jpeg
END:VEVENT
BEGIN:VEVENT
DTSTART;TZID=America/Los_Angeles:20230513T170000
DTEND;TZID=America/Los_Angeles:20230513T200000
DTSTAMP:20260424T075031
CREATED:20251118T232235Z
LAST-MODIFIED:20251118T232235Z
UID:1139-1683997200-1684008000@abhinayfinearts.org
SUMMARY:Carnatic Vocal Concert by Vidushi Amrutha Venkatesh
DESCRIPTION:Abhinay Fine Arts is delighted to welcome back Vidushi Amrutha Venkatesh to present a vocal concert on May 13th at 5 pm. She will be accompanied on the violin by Vidwan Rajeev Mukundan and on the Mridangam by Vidwan Arjun Ganesh.
URL:https://abhinayfinearts.org/event/carnatic-vocal-concert-by-vidushi-amrutha-venkatesh/
ATTACH;FMTTYPE=image/jpeg:https://abhinayfinearts.org/wp-content/uploads/2025/11/https-cdn.evbuc_.com-images-504910189-1908977956-1-original.20230501-192155.jpeg
END:VEVENT
BEGIN:VEVENT
DTSTART;TZID=America/Los_Angeles:20230430T170000
DTEND;TZID=America/Los_Angeles:20230430T190000
DTSTAMP:20260424T075031
CREATED:20251118T232330Z
LAST-MODIFIED:20251118T232330Z
UID:1142-1682874000-1682881200@abhinayfinearts.org
SUMMARY:Carnatic Vocal Concert by Kumari Spoorthi Rao
DESCRIPTION:Abhinay Fine Arts is delighted to present the promising\, young artist Vidushi Spoorthi Rao (Disciple of Vidushis Ranjani & Gayatri) on April 30th at 6 pm. She will be accompanied on the violin by Vidwan Gyandev Pappu on the violin and Vidwan K V Prasad on the Mridangam.
URL:https://abhinayfinearts.org/event/carnatic-vocal-concert-by-kumari-spoorthi-rao/
ATTACH;FMTTYPE=image/jpeg:https://abhinayfinearts.org/wp-content/uploads/2025/11/ab6761610000e5ebd88faf0c2440fd5577bb917a.jpeg
END:VEVENT
BEGIN:VEVENT
DTSTART;TZID=America/Los_Angeles:20230423T170000
DTEND;TZID=America/Los_Angeles:20230423T200000
DTSTAMP:20260424T075031
CREATED:20251118T232418Z
LAST-MODIFIED:20251118T232418Z
UID:1145-1682269200-1682280000@abhinayfinearts.org
SUMMARY:Vocal Concert by Vidwan Abhishek Raghuram
DESCRIPTION:After a fantastic start to our Spring Concert series\, Abhinay Fine Arts is delighted to present a vocal concert by Vidwan Abhishek Raghuram. He will be accompanied by Vidwan Mysore Nagaraj on the violin and Vidwan Arjun Kumar on the Mridangam.
URL:https://abhinayfinearts.org/event/vocal-concert-by-vidwan-abhishek-raghuram/
ATTACH;FMTTYPE=image/jpeg:https://abhinayfinearts.org/wp-content/uploads/2025/11/https-cdn.evbuc_.com-images-478772209-1908977956-1-original.20230327-182959.jpeg
END:VEVENT
BEGIN:VEVENT
DTSTART;TZID=America/Los_Angeles:20230419T160000
DTEND;TZID=America/Los_Angeles:20230419T190000
DTSTAMP:20260424T075031
CREATED:20251118T231720Z
LAST-MODIFIED:20251118T231720Z
UID:1124-1681920000-1681930800@abhinayfinearts.org
SUMMARY:Vocal Concert by Padma Bhushan Vidushi Sudha Raghunathan
DESCRIPTION:Abhinay Fine Arts is proud to welcome back Padma Bhushan Sangeetha Kalanidhi Smt.Sudha Raghunathan\, kicking off the concert series for 2023. She will be accompanied by Vidwan Kamalakiran Vinjamuri on the violin\, Vidwan Akshay Ananthapadmanabhan on the Mridangam and Vidwan Somiya Narayanan on the Ghatam .
URL:https://abhinayfinearts.org/event/vocal-concert-by-padma-bhushan-vidushi-sudha-raghunathan/
LOCATION:Redmond High School
ATTACH;FMTTYPE=image/jpeg:https://abhinayfinearts.org/wp-content/uploads/2025/11/https-cdn.evbuc_.com-images-440193589-1908977956-1-original.20230206-171713.jpeg
END:VEVENT
BEGIN:VEVENT
DTSTART;TZID=America/Los_Angeles:20221029T170000
DTEND;TZID=America/Los_Angeles:20221029T190000
DTSTAMP:20260424T075031
CREATED:20251118T231837Z
LAST-MODIFIED:20251118T231837Z
UID:1127-1667062800-1667070000@abhinayfinearts.org
SUMMARY:Vocal Concert by Vidwan Sandeep Narayan
DESCRIPTION:Abhinay Fine Arts is excited to present the final concert in our Fall Concert Series; vocal concert by Vidwan Sandeep Narayan. He will be accompanied by none other than Sangita Kalanidhi Vidwan Trichy Sankaran on the Mridangam and Vidwan VVS Murari on the violin.
URL:https://abhinayfinearts.org/event/vocal-concert-by-vidwan-sandeep-narayan/
ATTACH;FMTTYPE=image/jpeg:https://abhinayfinearts.org/wp-content/uploads/2025/11/https-cdn.evbuc_.com-images-363192379-1908977956-1-original.20220928-194352.jpeg
END:VEVENT
BEGIN:VEVENT
DTSTART;TZID=America/Los_Angeles:20221016T160000
DTEND;TZID=America/Los_Angeles:20221016T180000
DTSTAMP:20260424T075031
CREATED:20251118T231934Z
LAST-MODIFIED:20251118T231934Z
UID:1130-1665936000-1665943200@abhinayfinearts.org
SUMMARY:Vocal Concert by Vidushi Amritha Murali
DESCRIPTION:Abhinay Fine Arts is delighted to present our next concert in the Fall Concert Series\, vocal concert by Vidushi Amritha Murali. She will be accompanied by Vidwan RK Shriramkumar on the violin and Vidwan K. Arunprakash on the Mridangam.
URL:https://abhinayfinearts.org/event/vocal-concert-by-vidushi-amritha-murali/
ATTACH;FMTTYPE=image/jpeg:https://abhinayfinearts.org/wp-content/uploads/2025/11/https-cdn.evbuc_.com-images-369836809-1908977956-1-original.20221009-033138.jpeg
END:VEVENT
BEGIN:VEVENT
DTSTART;TZID=America/Los_Angeles:20220917T170000
DTEND;TZID=America/Los_Angeles:20220917T200000
DTSTAMP:20260424T075031
CREATED:20251118T232039Z
LAST-MODIFIED:20251118T232039Z
UID:1133-1663434000-1663444800@abhinayfinearts.org
SUMMARY:Vocal Concert by Ranjani & Gayatri
DESCRIPTION:After a long hiatus\, Abhinay Fine Arts is excited to welcome back the famous top ranking vocalist duo\, Vidushis Ranjani & Gayatri\, kicking off the Fall Concert series for 2022. They will be accompanied by Vidwan L Ramakrishnan on the violin and Vidwan Manoj Siva on the Mridangam. \nAs we expect this to be a sold out event\, tickets will be available online only.
URL:https://abhinayfinearts.org/event/vocal-concert-by-ranjani-gayatri-2/
ATTACH;FMTTYPE=image/jpeg:https://abhinayfinearts.org/wp-content/uploads/2025/11/https-cdn.evbuc_.com-images-312238679-1908977956-1-original.20220702-130713.jpeg
END:VEVENT
BEGIN:VEVENT
DTSTART;TZID=America/Los_Angeles:20200510T080000
DTEND;TZID=America/Los_Angeles:20200510T170000
DTSTAMP:20260424T075031
CREATED:20251118T231450Z
LAST-MODIFIED:20251118T231450Z
UID:1117-1589097600-1589130000@abhinayfinearts.org
SUMMARY:Ramayana Sudha Dance Ballet
DESCRIPTION:As we celebrate the birth of Lord Rama\, Abhinay Fine Arts is delighted to present a stunning dance ballet featuring a troupe of 9 dancers. The ballet will feature choreography by Smt. Shobanaa Bhalchandra\, music score by Rajkumar Bharti and narration by the renowned scholar Dushyant Sridhar.
URL:https://abhinayfinearts.org/event/ramayana-sudha-dance-ballet/
ATTACH;FMTTYPE=image/jpeg:https://abhinayfinearts.org/wp-content/uploads/2025/11/22frramayana-sudha.jpeg
END:VEVENT
BEGIN:VEVENT
DTSTART;TZID=America/Los_Angeles:20200502T080000
DTEND;TZID=America/Los_Angeles:20200502T170000
DTSTAMP:20260424T075031
CREATED:20251118T231531Z
LAST-MODIFIED:20251118T231531Z
UID:1120-1588406400-1588438800@abhinayfinearts.org
SUMMARY:Vocal Concert by Ranjani-Gayatri
DESCRIPTION:Abhinay Fine Arts is proud to welcome back the famous top ranking vocalist duo\, Ranjani & Gayathri \, as the second concert in our spring concert series. \nThey will be accompanied by Vidwan Manoj Siva on the Mridangam and Vidwan L. Ramakrishnan on the violin. \nAs we expect this to be a sold out event\, tickets will be available only online.
URL:https://abhinayfinearts.org/event/vocal-concert-by-ranjani-gayatri/
END:VEVENT
BEGIN:VEVENT
DTSTART;TZID=America/Los_Angeles:20200426T173000
DTEND;TZID=America/Los_Angeles:20200426T203000
DTSTAMP:20260424T075031
CREATED:20251118T231607Z
LAST-MODIFIED:20251118T231607Z
UID:1122-1587922200-1587933000@abhinayfinearts.org
SUMMARY:Vocal Concert by Neyveli Santhanagopalan
DESCRIPTION:Abhinay Fine Arts is delighted to welcome back Vidwan Neyveli Santhanagopalan on Sunday\, April 26th\, 2020 at International School Performing Arts Center\, Bellevue. He will be accompanied by Vidwan Arun Ramamurthi on the violin and Vidwan Athrey Nadhan on the Mridangam. Patrons please note that this will be a FREE concert. For your convenience\, we have created free tickets that can be used to reserve your spots.
URL:https://abhinayfinearts.org/event/vocal-concert-by-neyveli-santhanagopalan/
END:VEVENT
BEGIN:VEVENT
DTSTART;TZID=America/Los_Angeles:20200411T160000
DTEND;TZID=America/Los_Angeles:20200411T190000
DTSTAMP:20260424T075031
CREATED:20251118T231347Z
LAST-MODIFIED:20251118T231347Z
UID:1114-1586620800-1586631600@abhinayfinearts.org
SUMMARY:Vocal Concert by Amritha Murali
DESCRIPTION:Abhinay Fine Arts is delighted to present Vidushi Amritha Murali on April 11th at Eastside Baha’i Center\, Bellevue. Amritha Murali belongs to a family of connoisseurs of music. Today Amritha has gained much acclaim and popularity among the music fraternity as a highly talented musician of the younger generation. \nAmritha has had the good fortune of learning vocal music from great gurus \, Vidvan Late Sri K R Kedaranathan\, Vidushi Smt Meera Kedaranathan\, and Vidushi Smt Rama Ravi. She is currently under the tutelage of Vidvan Sri P.S.Narayanaswamy. She also trains under Vidushi Smt.T.Rukmini for violin playing. \nMusicians\, audience and critics have been highly appreciative of her adherence to classical values and the aesthetic appeal of her concerts. \nAmritha will be accompanied by Vidwan RK Shriramkumar on the violin Vidwan K Arun Prakash on the mridangam.
URL:https://abhinayfinearts.org/event/vocal-concert-by-amritha-murali/
ATTACH;FMTTYPE=image/jpeg:https://abhinayfinearts.org/wp-content/uploads/2025/11/WhatsApp-Image-2019-12-03-at-8.21.39-PM.jpeg
END:VEVENT
BEGIN:VEVENT
DTSTART;TZID=America/Los_Angeles:20200322T080000
DTEND;TZID=America/Los_Angeles:20200322T170000
DTSTAMP:20260424T075031
CREATED:20251118T230945Z
LAST-MODIFIED:20251118T230945Z
UID:1104-1584864000-1584896400@abhinayfinearts.org
SUMMARY:Vocal Concert by Bombay Jayashri
DESCRIPTION:Abhinay Fine Arts is delighted to kickstart the first event of the new decade with a vocal concert by Vidushi Bombay Jayashri on March 22nd\, 2020 at Newport High School Performing Arts Center\, Bellevue. \nBeing among the finest and most well-known voices in the Carnatic realm with a career spanning over thirty years\, Smt.Jayashri needs no introduction. Abhinay Fine Arts has had the privilege of hosting Smt.Jayashri in the past and we are excited to welcome her back once again. \nShe will be accompanied by Vidwan HN Bhaskar on the violin \, Vidwan Sai Giridhar on the Mridangam and Vidwan Shree Sundarkumar on the Kanjira. \nWe expect a sold out show\, so we request patrons to purchase the tickets at the earliest.
URL:https://abhinayfinearts.org/event/vocal-concert-by-bombay-jayashri/
ATTACH;FMTTYPE=image/jpeg:https://abhinayfinearts.org/wp-content/uploads/2025/11/images-1.jpeg
END:VEVENT
BEGIN:VEVENT
DTSTART;TZID=America/Los_Angeles:20191110T080000
DTEND;TZID=America/Los_Angeles:20191110T170000
DTSTAMP:20260424T075031
CREATED:20251118T231028Z
LAST-MODIFIED:20251118T231028Z
UID:1106-1573372800-1573405200@abhinayfinearts.org
SUMMARY:Carnatic Vocal Concert by Sandeep Narayan
DESCRIPTION:Abhinay Fine Arts is delighted to present the amazingly talented vocalist Sandeep Narayan on November 10th @ 3.p.m. Sandeep is one of the most sought after vocalists of Carnatic music today. He started his initial training from his mother\, Smt. Shubha Narayan\, at the age of 4. At the age of 11\, he started advanced training from one of the most revered musicologists\, Calcutta Shri K.S. Krishnamurthy in Chennai. Sandeep has been under the tutelage of Sangeeta Kalanidhi Shri. Sanjay Subrahmanyan since 1999. \nIn 2006\, Sandeep broke boundaries by being the first US born and raised musician to move to India to take up music as a full-time career\, a trend that is now followed by many other young aspiring musicians. \nHaving performed extensively all over the world \, Sandeep hopes to continue serving as a cultural link between Carnatic music and audiences worldwide. \nSandeep will be accompanied by Vidwan Rajeev Mukundan on the violin and Vidwan Sai Giridhar on the Mridangam.
URL:https://abhinayfinearts.org/event/carnatic-vocal-concert-by-sandeep-narayan/
ATTACH;FMTTYPE=image/jpeg:https://abhinayfinearts.org/wp-content/uploads/2025/11/Sandeep-Narayan.jpg
END:VEVENT
END:VCALENDAR